BEGIN:VCALENDAR
VERSION:2.0
PRODID:-//wp-events-plugin.com//7.2.3.1//EN
TZID:Europe/Berlin
X-WR-TIMEZONE:Europe/Berlin
BEGIN:VEVENT
UID:1@ringen-berlin.de
DTSTART;TZID=Europe/Berlin:20190324T090000
DTEND;TZID=Europe/Berlin:20190329T090000
DTSTAMP:20180906T204902Z
URL:https://www.ringen-berlin.de/events/trainingslager-2019/
SUMMARY:Trainingslager 2019
DESCRIPTION:Eine Woche Trainingslager führt uns nach Rügen.
CATEGORIES:Trainingslager
LOCATION:Jugenddorf Wittow\, Hinter der Düne 2\, Altenkirchen\, 18556\, R
 ügen\, Deutschland
GEO:54.626132;13.374261299999944
X-APPLE-STRUCTURED-LOCATION;VALUE=URI;X-ADDRESS=Hinter der Düne 2\, Altenk
 irchen\, 18556\, Rügen\, Deutschland;X-APPLE-RADIUS=100;X-TITLE=Jugenddor
 f Wittow:geo:54.626132,13.374261299999944
END:VEVENT
BEGIN:VEVENT
UID:2@ringen-berlin.de
DTSTART;TZID=Europe/Berlin:20190608T080000
DTEND;TZID=Europe/Berlin:20190609T170000
DTSTAMP:20181206T141353Z
URL:https://www.ringen-berlin.de/events/pfingstcup-2019/
SUMMARY:Pfingstcup 2019
DESCRIPTION:
CATEGORIES:Turnier
LOCATION:Berlin - Sporthalle Hatzfeldallee\, Hatzfeldallee 23\, Berlin\, 13
 509\, Deutschland
GEO:52.5925044;13.291696000000002
X-APPLE-STRUCTURED-LOCATION;VALUE=URI;X-ADDRESS=Hatzfeldallee 23\, Berlin\,
  13509\, Deutschland;X-APPLE-RADIUS=100;X-TITLE=Berlin - Sporthalle Hatzfe
 ldallee:geo:52.5925044,13.291696000000002
END:VEVENT
BEGIN:VTIMEZONE
TZID:Europe/Berlin
X-LIC-LOCATION:Europe/Berlin
BEGIN:STANDARD
DTSTART:20181028T020000
TZOFFSETFROM:+0200
TZOFFSETTO:+0100
TZNAME:CET
END:STANDARD
BEGIN:DAYLIGHT
DTSTART:20190331T030000
TZOFFSETFROM:+0100
TZOFFSETTO:+0200
TZNAME:CEST
END:DAYLIGHT
END:VTIMEZONE
END:VCALENDAR